BEGIN:VCALENDAR
VERSION:2.0
PRODID:-//Ulla Scharfenberg - ECPv6.9.0//NONSGML v1.0//EN
CALSCALE:GREGORIAN
METHOD:PUBLISH
X-WR-CALNAME:Ulla Scharfenberg
X-ORIGINAL-URL:https://ullascharfenberg.de
X-WR-CALDESC:Veranstaltungen für Ulla Scharfenberg
REFRESH-INTERVAL;VALUE=DURATION:PT1H
X-Robots-Tag:noindex
X-PUBLISHED-TTL:PT1H
BEGIN:VTIMEZONE
TZID:Europe/Berlin
BEGIN:DAYLIGHT
TZOFFSETFROM:+0100
TZOFFSETTO:+0200
TZNAME:CEST
DTSTART:20260329T010000
END:DAYLIGHT
BEGIN:STANDARD
TZOFFSETFROM:+0200
TZOFFSETTO:+0100
TZNAME:CET
DTSTART:20261025T010000
END:STANDARD
END:VTIMEZONE
BEGIN:VEVENT
DTSTART;TZID=Europe/Berlin:20260427T160000
DTEND;TZID=Europe/Berlin:20260427T200000
DTSTAMP:20260421T002657
CREATED:20260304T101620Z
LAST-MODIFIED:20260304T101620Z
UID:1807-1777305600-1777320000@ullascharfenberg.de
SUMMARY:Zine-Workshop: Perspektiven auf Berlin
DESCRIPTION:Du arbeitest gern mit Geschichten\, Gedanken\, Collagen\, Zeichnungen oder Fotos? Im kreativen Medienformat Zine (kurz vom englischen Wort Magazine) kannst du deine persönlichen Geschichten und Erfahrungen festhalten – mit Papier\, Stift\, Schere\, Collagen und allem\, was dir einfällt! \nZines sind ein Medium\, um persönliche Perspektiven\, politische Positionen\, künstlerische Ideen oder dokumentarische Inhalte niedrigschwellig zu teilen. Sie sind Archiv\, Manifest und Experimentierfeld. Mit Zines kannst du Geschichten erzählen\, die sonst vielleicht unsichtbar blieben. \nEntdecke mit dem Workshop das kulturelle Erbe der Stadt in den Berlin-Sammlungen und bringe deine Perspektive auf Papier. Dein fertiges Zine wird – wenn du möchtest – Teil der Sammlung der Landesbibliothek. So trägst du dazu bei\, Berlins kulturelles Erbe in seiner Vielfalt zu zeigen und für die Zukunft zu bewahren. \n\n\n\n\n\n\n\n\nWeitere Infos\n\n\n\n\nUm Anmeldung per Mail über berlin-hub@zlb.de wird gebeten. Die Anzahl der Plätze ist begrenzt. Der Workshop findet in deutscher Lautsprache statt. \nFür die Teilnahme sind keinerlei Vorkenntnisse nötig. Wenn vorhanden\, bringt gerne (alte) Magazine zum Ausschneiden mit.
URL:https://ullascharfenberg.de/event/zine-workshop-perspektiven-auf-berlin-4/
LOCATION:Berliner Stadtbibliothek\, Breite Straße 30-36\, Berlin\, 10178
END:VEVENT
BEGIN:VEVENT
DTSTART;TZID=Europe/Berlin:20260507T163000
DTEND;TZID=Europe/Berlin:20260507T200000
DTSTAMP:20260421T002657
CREATED:20260114T155116Z
LAST-MODIFIED:20260304T093953Z
UID:1754-1778171400-1778184000@ullascharfenberg.de
SUMMARY:Auf Antifeminismus reagieren (Online-Workshop)
DESCRIPTION:Antifeminismus ist nicht nur fester Bestandteil rechter und rechtsextremistischer Ideologie\, sondern wirkt längst auch in die sogenannte „Mitte der Gesellschaft“. In diesem Aufbau-Workshop widmen wir uns verschiedenen Gegenstrategien: Wie können wir antifeministischen Aussagen begegnen und den Angriffen auf Vielfalt und Selbstbestimmung etwas entgegensetzen? \nWas erwartet dich? \nAntifeministische Aussagen\, Abwertungen und Angriffe begegnen uns in sehr unterschiedlichen Kontexten: im Kolleg*innenkreis\, in politischen Diskussionen\, in sozialen Medien\, in der Bildungsarbeit oder im privaten Umfeld. Oft entstehen dabei Unsicherheit\, Sprachlosigkeit oder der Eindruck\, immer nur zu reagieren\, statt selbst handlungsfähig zu bleiben. Im Aufbauworkshop geht es darum\, souverän und situationsangemessen auf antifeministische und queerfeindliche Narrative zu reagieren. \nFür wen? \nDu hast bereits ein grundlegendes Verständnis¹ von antifeministischer Ideologie\, den Narrativen und Netzwerken und möchtest dich im Austausch mit anderen mit wirkungsvollen Gegenstrategien beschäftigen. Der Workshop richtet sich an alle\, die ihre Handlungssicherheit im Umgang mit antifeministischen Aussagen ausbauen möchten. \n¹In unserem Workshop „Antifeminismus verstehen“ am 26. März 2026 vermitteln wir genau diese Grundlagen. Du kannst aber auch am Workshop teilnehmen\, ohne an dem Grundlagen-Workshop teilgenommen zu haben. \nWarum solltest du teilnehmen? \nAntifeministische Erzählungen zielen darauf ab\, Gleichstellung\, Vielfalt und Solidarität zu delegitimieren. Um dem etwas entgegenzusetzen\, braucht es situationsgerechte Strategien und Raum\, diese zu besprechen und einzuüben. Der Workshop unterstützt dich dabei\, handlungsfähig zu bleiben\, Grenzen zu setzen und antifeministischen Positionen wirksam zu widersprechen. Der Austausch und das Lernen voneinander stehen dabei im Mittelpunkt. \nAnmeldung hier
URL:https://ullascharfenberg.de/event/auf-antifeminismus-reagieren-online-workshop/
LOCATION:online
END:VEVENT
BEGIN:VEVENT
DTSTART;TZID=Europe/Berlin:20260625T160000
DTEND;TZID=Europe/Berlin:20260625T200000
DTSTAMP:20260421T002657
CREATED:20260114T161628Z
LAST-MODIFIED:20260304T093902Z
UID:1771-1782403200-1782417600@ullascharfenberg.de
SUMMARY:Binär war gestern – von entgendertem Denken und gendersensiblem Sprechen (Online-Workshop)
DESCRIPTION:Ein Workshop rund um geschlechtliche Vielfalt in unserem Denken und Sprachhandeln. \nGendersensibilität zeigt sich nicht nur in richtig gesetzten Gendersternchen oder genderfreien Anreden. Aktives Sprachhandeln folgt einer diskriminierungssensiblen Haltung und der Bereitschaft\, stetig dazuzulernen. Im Workshop für Fortgeschrittene entwickeln unser Verständnis von Gendersensibilität weiter und beschäftigen uns mit grundsätzlichen Fragen von Binarität\, die uns alltäglich begegnen. Wir tauschen uns zu Argumenten und Strategien für mehr Gendersensibilität aus. Praktische Methoden genderfreien Formulierens sind nur ein Aspekt davon. \nFormat & Methoden \nDer interaktive Online-Workshop baut auf den Grundlagen geschlechtlicher Vielfalt und geschlechtergerechter Sprache auf und geht den Fragen nach\, inwiefern wir Diversität und Sensibilität auf sprachlicher Ebene praktizieren können. Gemeinsam schauen wir\, welche Kategorien unser Denken und Wahrnehmen auf welche Weise prägen und beschäftigen uns wertschätzend mit Selbstreflexion und Entlernen. Wir werfen einen ersten und auch zweiten Blick auf verschiedene Beispiele\, haben Zeit für (Erfahrungs-)Austausch der Teilnehmenden untereinander und natürlich auch für Fragen eingeplant. \nZiel & Zielgruppe \nDer Workshop richtet sich an Menschen\, die ihre Vorkenntnisse im Bereich geschlechtliche Vielfalt und gendersensible Sprache vertiefen wollen. Gemeinsam erkunden wir Zusammenhänge von Wahrnehmung\, Sprache\, gedanklichen Konzepten und persönlicher Haltung. Der Workshop will motivieren und ermutigen\, im Alltag sowie im Beruf diskriminierungssensibel handeln zu können. Dazu gehört auch\, alternative Formulierungen und sprachliche Strategien kennen zu lernen und eigene Denkmuster zu hinterfragen und entlernen. \nAnmeldung hier
URL:https://ullascharfenberg.de/event/binaer-war-gestern-von-entgendertem-denken-und-gendersensiblem-sprechen-online-workshop/
LOCATION:online
END:VEVENT
END:VCALENDAR